BEGIN:VCALENDAR
VERSION:2.0
METHOD:PUBLISH
PRODID:-//Telerik Inc.//Sitefinity CMS 12.2//EN
BEGIN:VTIMEZONE
TZID:W. Australia Standard Time
BEGIN:STANDARD
DTSTART;VALUE=DATE:20200101
TZNAME:W. Australia Standard Time
TZOFFSETFROM:+0800
TZOFFSETTO:+0800
END:STANDARD
END:VTIMEZONE
BEGIN:VEVENT
DESCRIPTION:***Please note the dates have been postponed again due to gover
 nment health guidelines around COVID-19***ATSA Independent Living Expo is 
 set to have more than 100 exhibitors displaying a wide range of products a
 nd services in assistive technology\, mobility solutions\, pressure care\,
  employment support\, accessible recreation/holiday ideas\, modified motor
  vehicles and a lot more.A key feature of the Expo is the FREE Seminar Pro
 gram &ndash\; run in rooms conveniently located next to the exhibition flo
 or.Indigo is proud to be the principal supporter of the ATSA Independent L
 iving Expo 2020.
DTEND:20210527T080000Z
DTSTAMP:20210225T202119Z
DTSTART:20210526T003000Z
LOCATION:WA\,Australia\,Claremont\,Claremont Showgrounds\, 1 Graylands Road
 \,
SEQUENCE:0
SUMMARY:ATSA Independent Living Expo 2020
UID:RFCALITEM637498812795981546
X-ALT-DESC;FMTTYPE=text/html:<h4 data-sf-tooltip="input-title" role="input"
  sftextdirection="" aria-label="Title" data-placeholder="Title">***Please 
 note the dates have been postponed again due to government health guidelin
 es around COVID-19***</h4><div><p><a href="https://www.atsaindependentlivi
 ngexpo.com.au/" target="_blank">ATSA Independent Living Expo</a> is set to
  have more than 100 exhibitors displaying a wide range of products and ser
 vices in assistive technology\, mobility solutions\, pressure care\, emplo
 yment support\, accessible recreation/holiday ideas\, modified motor vehic
 les and a lot more.</p></div><div><p><span style="background-color:transpa
 rent\;color:inherit\;font-family:inherit\;font-size:inherit\;text-align:in
 herit\;text-transform:inherit\;white-space:inherit\;word-spacing:normal\;c
 aret-color:auto\;">A key feature of the Expo is the FREE Seminar Program &
 ndash\; run in rooms conveniently located next to the exhibition floor.</s
 pan><br /></p></div><div><p><strong>Indigo is proud to be the principal su
 pporter of the ATSA Independent Living Expo 2020.</strong></p></div>
END:VEVENT
END:VCALENDAR
